BEGIN:VCALENDAR
VERSION:2.0
PRODID:SchoolNow
CALSCALE:GREGORIAN
BEGIN:VEVENT
UID:c8287440-e52a-11ee-bc50-0afffb29216d
DTSTAMP:20240422T145056Z
SUMMARY:NYS science exam | Grade 5
URL;VALUE=URI:https://www.albanyschools.org/calendar/5572322/nys-science-ex
 am-grade-5
DTSTART:20240501T132300Z
DTEND:20240501T142300Z
END:VEVENT
END:VCALENDAR
