BEGIN:VCALENDAR
VERSION:2.0
PRODID:SchoolNow
CALSCALE:GREGORIAN
BEGIN:VEVENT
UID:f9b2e9aa-e52a-11ee-9bae-0e9352985ecb
DTSTAMP:20240422T145104Z
SUMMARY:NYS science exam | Grade 8
URL;VALUE=URI:https://www.albanyschools.org/calendar/5572336/nys-science-ex
 am-grade-8
DTSTART:20240514T132300Z
DTEND:20240514T142300Z
END:VEVENT
END:VCALENDAR
