BEGIN:VCALENDAR
VERSION:2.0
PRODID:SchoolNow
CALSCALE:GREGORIAN
BEGIN:VEVENT
UID:d980345e-e87b-11ee-a8e0-0a58a9feac02
DTSTAMP:20240325T135640Z
SUMMARY:EARLY DISMISSAL
URL;VALUE=URI:https://www.albanyschools.org/calendar/5606999/early-dismissa
 l-4-8
DTSTART:20240408T184000Z
DTEND:20240408T194000Z
END:VEVENT
END:VCALENDAR
