BEGIN:VCALENDAR
VERSION:2.0
PRODID:SchoolNow
CALSCALE:GREGORIAN
BEGIN:VEVENT
UID:2c14b6c6-0718-11ef-903e-0a58a9feac02
DTSTAMP:20240509T125808Z
SUMMARY:Community Budget Presentation (Normans Kill Neighborhood Associatio
 n)
LOCATION:Normans Kill Neighborhood Association | Martel's\, 65 O'Neill Road
URL;VALUE=URI:https://www.albanyschools.org/calendar/5888256/community-budg
 et-presentation-normans-kill
DTSTART:20240509T220000Z
DTEND:20240509T230000Z
END:VEVENT
END:VCALENDAR
