BEGIN:VCALENDAR
VERSION:2.0
PRODID:SchoolNow
CALSCALE:GREGORIAN
BEGIN:VEVENT
UID:c8ac2eec-0718-11ef-9861-0a58a9feac02
DTSTAMP:20240510T171621Z
SUMMARY:District Community Budget Presentation (Virtual)
URL;VALUE=URI:https://www.albanyschools.org/calendar/5888267/community-budg
 et-presentation-virtual
DTSTART:20240513T220000Z
DTEND:20240513T230000Z
END:VEVENT
END:VCALENDAR
