BEGIN:VCALENDAR
VERSION:2.0
PRODID:SchoolNow
CALSCALE:GREGORIAN
BEGIN:VEVENT
UID:e967bd7c-0718-11ef-ba72-0a58a9feac02
DTSTAMP:20240514T214243Z
SUMMARY:Community Budget Presentation (Arbor Hill Neighborhood Association)
LOCATION:Arbor Hill Neighborhood Association | Albany Public Library Arbor 
 Hill/West Hill Branch\, 148 Henry Johnson Blvd.
URL;VALUE=URI:https://www.albanyschools.org/calendar/5888268/community-budg
 et-presentation-arbor-hill
DTSTART:20240516T220000Z
DTEND:20240516T230000Z
END:VEVENT
END:VCALENDAR
