BEGIN:VCALENDAR
VERSION:2.0
PRODID:SchoolNow
CALSCALE:GREGORIAN
BEGIN:VEVENT
UID:f67017ee-0718-11ef-8e4b-0a58a9feac02
DTSTAMP:20240514T214327Z
SUMMARY:Community Budget Presentation (Pine Hills Neighborhood Association)
LOCATION:Pine Hills Neighborhood Association | LaSalle School\, 391 Western
  Ave.
URL;VALUE=URI:https://www.albanyschools.org/calendar/5888269/community-budg
 et-presentation-pine-hills
DTSTART:20240516T230000Z
DTEND:20240517T000000Z
END:VEVENT
END:VCALENDAR
