BEGIN:VCALENDAR
VERSION:2.0
PRODID:SchoolNow
CALSCALE:GREGORIAN
BEGIN:VEVENT
UID:eaedc176-0986-11ef-9514-0a58a9feac02
DTSTAMP:20240503T195706Z
SUMMARY:NO SCHOOL: Unused Snow Day (5/24)
URL;VALUE=URI:https://www.albanyschools.org/calendar/5907832/no-school-unus
 ed-snow-day-5-24
DTSTART;VALUE=DATE:20240524
DTEND;VALUE=DATE:20240525
END:VEVENT
END:VCALENDAR
