BEGIN:VCALENDAR
VERSION:2.0
PRODID:SchoolNow
CALSCALE:GREGORIAN
BEGIN:VEVENT
UID:96785b50-0c7f-11ef-afa4-0a58a9feac02
DTSTAMP:20240508T222943Z
SUMMARY:Community Budget Presentation (Myers PTSA)
LOCATION:Myers Middle School | 100 Elbel Court
URL;VALUE=URI:https://www.albanyschools.org/calendar/5929257/community-budg
 et-presentation-myers-ptsa
DTSTART:20240508T213000Z
DTEND:20240508T223000Z
END:VEVENT
END:VCALENDAR
