BEGIN:VCALENDAR
VERSION:2.0
PRODID:SchoolNow
CALSCALE:GREGORIAN
BEGIN:VEVENT
UID:d134b6d0-0c7f-11ef-8ef8-0a58a9feac02
DTSTAMP:20240509T160135Z
SUMMARY:Community Budget Presentation (Montessori Community Council)
LOCATION:Montessori Magnet School | 45 Tremont St.
URL;VALUE=URI:https://www.albanyschools.org/calendar/5929258/community-budg
 et-presentation-mcc
DTSTART:20240515T223000Z
DTEND:20240515T233000Z
END:VEVENT
END:VCALENDAR
