BEGIN:VCALENDAR
VERSION:2.0
PRODID:SchoolNow
CALSCALE:GREGORIAN
BEGIN:VEVENT
UID:7b95ce84-0c99-11ef-b56f-0affd8455033
DTSTAMP:20240514T210740Z
SUMMARY:Community Budget Presentation (Common Council)
LOCATION:City Hall | 24 Eagle St.
URL;VALUE=URI:https://www.albanyschools.org/calendar/5929768/community-budg
 et-presentation-common-council
DTSTART:20240515T211500Z
DTEND:20240515T221500Z
END:VEVENT
END:VCALENDAR
