BEGIN:VCALENDAR
VERSION:2.0
PRODID:SchoolNow
CALSCALE:GREGORIAN
BEGIN:VEVENT
UID:594b737c-112d-11ef-8d80-0a58a9feac02
DTSTAMP:20240513T155252Z
SUMMARY:Community Budget Presentation (Sheridan Hollow Neighborhood Associa
 tion)
URL;VALUE=URI:https://www.albanyschools.org/calendar/5963356/community-budg
 et-presentation-sheridan-hollow
DTSTART:20240513T213000Z
DTEND:20240513T220000Z
END:VEVENT
END:VCALENDAR
