BEGIN:VCALENDAR
VERSION:2.0
PRODID:SchoolNow
CALSCALE:GREGORIAN
BEGIN:VEVENT
UID:ddeef9ce-1230-11ef-a86c-0a58a9feac02
DTSTAMP:20240514T203056Z
SUMMARY:Budget Q&A (5/16)
URL;VALUE=URI:https://www.albanyschools.org/calendar/5971086/budget-q-a-5-1
 6
DTSTART:20240516T180000Z
DTEND:20240516T190000Z
END:VEVENT
END:VCALENDAR
