BEGIN:VCALENDAR
VERSION:2.0
PRODID:SchoolNow
CALSCALE:GREGORIAN
BEGIN:VEVENT
UID:0648e5d8-1231-11ef-89f3-0a58a9feac02
DTSTAMP:20240514T203203Z
SUMMARY:Budget Q&A (5/17)
URL;VALUE=URI:https://www.albanyschools.org/calendar/5971087/budget-q-a-5-1
 7
DTSTART:20240517T130000Z
DTEND:20240517T140000Z
END:VEVENT
END:VCALENDAR
