BEGIN:VCALENDAR
VERSION:2.0
PRODID:SchoolNow
CALSCALE:GREGORIAN
BEGIN:VEVENT
UID:1c49d00e-1231-11ef-8318-0e7bf864445f
DTSTAMP:20240514T203240Z
SUMMARY:Budget Q&A (5/18)
URL;VALUE=URI:https://www.albanyschools.org/calendar/5971088/budget-q-a-5-1
 8
DTSTART:20240518T140000Z
DTEND:20240518T150000Z
END:VEVENT
END:VCALENDAR
