BEGIN:VCALENDAR
VERSION:2.0
PRODID:SchoolNow
CALSCALE:GREGORIAN
BEGIN:VEVENT
UID:2f2c85d6-1231-11ef-9a3c-0a58a9feac02
DTSTAMP:20240514T203312Z
SUMMARY:Budget Q&A (5/20)
URL;VALUE=URI:https://www.albanyschools.org/calendar/5971089/budget-q-a-5-2
 0
DTSTART:20240520T130000Z
DTEND:20240520T140000Z
END:VEVENT
END:VCALENDAR
