BEGIN:VCALENDAR
VERSION:2.0
PRODID:SchoolNow
CALSCALE:GREGORIAN
BEGIN:VEVENT
UID:549d84e6-12ae-11ef-8155-0a58a9feac02
DTSTAMP:20240531T171904Z
SUMMARY:Community blood drive
LOCATION:Albany High School library
URL;VALUE=URI:https://www.albanyschools.org/calendar/5974278/community-bloo
 d-drive
DTSTART:20240605T120000Z
DTEND:20240605T190000Z
END:VEVENT
END:VCALENDAR
