BEGIN:VCALENDAR
VERSION:2.0
PRODID:SchoolNow
CALSCALE:GREGORIAN
BEGIN:VEVENT
UID:d6db2a12-17b3-11ef-8163-0affe69a10e1
DTSTAMP:20240521T205104Z
SUMMARY:School Budget Vote and Board Election vote canvass
LOCATION:Harriet Gibbons Student Services Center\, 75 Watervliet Ave.
URL;VALUE=URI:https://www.albanyschools.org/calendar/6008038/school-budget-
 vote-and-board-election-canvass
DTSTART:20240522T013000Z
DTEND:20240522T023000Z
END:VEVENT
END:VCALENDAR
