BEGIN:VCALENDAR
VERSION:2.0
PRODID:SchoolNow
CALSCALE:GREGORIAN
BEGIN:VEVENT
UID:f5813176-1855-11ef-90bc-0a58a9feac02
DTSTAMP:20240522T161134Z
SUMMARY:Job and Career Fair: Families\, community members
LOCATION:gym
URL;VALUE=URI:https://www.albanyschools.org/calendar/6011967/job-and-career
 -fair-students-clone
DTSTART:20240523T193000Z
DTEND:20240523T210000Z
END:VEVENT
END:VCALENDAR
