BEGIN:VCALENDAR
VERSION:2.0
PRODID:SchoolNow
CALSCALE:GREGORIAN
BEGIN:VEVENT
UID:c6cd41a4-2d7b-11ef-bd8f-0a58a9feac02
DTSTAMP:20240618T140511Z
SUMMARY:High school football tryouts begin
URL;VALUE=URI:https://www.albanyschools.org/calendar/6138445/high-school-fo
 otball-tryouts-begin
DTSTART:20240819T140400Z
DTEND:20240819T150400Z
END:VEVENT
END:VCALENDAR
