BEGIN:VCALENDAR
VERSION:2.0
PRODID:SchoolNow
CALSCALE:GREGORIAN
BEGIN:VEVENT
UID:27ef8a46-2d7c-11ef-825b-0a58a9feac02
DTSTAMP:20240618T140754Z
SUMMARY:Registration for fall modified sports begins
URL;VALUE=URI:https://www.albanyschools.org/calendar/6138861/registration-f
 or-fall-modified-sports-begins
DTSTART:20240729T140700Z
DTEND:20240729T150700Z
END:VEVENT
END:VCALENDAR
