BEGIN:VCALENDAR
VERSION:2.0
PRODID:SchoolNow
CALSCALE:GREGORIAN
BEGIN:VEVENT
UID:d7e32882-2f06-11ef-9dfd-0a58a9feac02
DTSTAMP:20240620T131311Z
SUMMARY:Henry Johnson Charter School expansion public hearing (6/20)
URL;VALUE=URI:https://www.albanyschools.org/calendar/6146925/henry-johnson-
 charter-school-expansion-public-hearing
DTSTART:20240620T213000Z
DTEND:20240620T223000Z
END:VEVENT
END:VCALENDAR
