BEGIN:VCALENDAR
VERSION:2.0
PRODID:SchoolNow
CALSCALE:GREGORIAN
BEGIN:VEVENT
UID:62638cfe-34c0-11ef-bde8-0a58a9feac02
DTSTAMP:20240710T155137Z
SUMMARY:Public Board of Education meeting (7/11)
DESCRIPTION:Anticipated executive session at 5:30 p.m.
LOCATION:Harriet Gibbons Student Services Center\, 75 Watervliet Ave.
URL;VALUE=URI:https://www.albanyschools.org/calendar/6176173/public-board-o
 f-education-meeting-7-11
DTSTART:20240711T223000Z
DTEND:20240711T233000Z
END:VEVENT
END:VCALENDAR
