BEGIN:VCALENDAR
VERSION:2.0
PRODID:SchoolNow
CALSCALE:GREGORIAN
BEGIN:VEVENT
UID:7cfdf450-34c0-11ef-8ea6-0e3f006457b7
DTSTAMP:20240725T213019Z
SUMMARY:Public Board of Education meeting (7/25)
DESCRIPTION:Anticipated executive session at 5:30 p.m.
LOCATION:Harriet Gibbons Student Services Center\, 75 Watervliet Ave.
URL;VALUE=URI:https://www.albanyschools.org/calendar/6176175/public-board-o
 f-education-meeting-7-25
DTSTART:20240725T223000Z
DTEND:20240725T233000Z
END:VEVENT
END:VCALENDAR
