BEGIN:VCALENDAR
VERSION:2.0
PRODID:SchoolNow
CALSCALE:GREGORIAN
BEGIN:VEVENT
UID:8af9e82a-34c0-11ef-ac05-0affff443979
DTSTAMP:20240807T161218Z
SUMMARY:Public Board of Education meeting (8/8)
DESCRIPTION:Anticipated executive session at 5:30 p.m.
LOCATION:Harriet Gibbons Student Services Center\, 75 Watervliet Ave.
URL;VALUE=URI:https://www.albanyschools.org/calendar/6176177/public-board-o
 f-education-meeting-8-8
DTSTART:20240808T223000Z
DTEND:20240808T233000Z
END:VEVENT
END:VCALENDAR
