BEGIN:VCALENDAR
VERSION:2.0
PRODID:SchoolNow
CALSCALE:GREGORIAN
BEGIN:VEVENT
UID:a673109a-34c0-11ef-a105-0a58a9feac02
DTSTAMP:20240911T122212Z
SUMMARY:Public Board of Education meeting (9/12)
DESCRIPTION:Anticipated executive session at 5:30 p.m.
LOCATION:Harriet Gibbons Student Services Center\, 75 Watervliet Ave.
URL;VALUE=URI:https://www.albanyschools.org/calendar/6176181/public-board-o
 f-education-meeting-9-12
DTSTART:20240912T223000Z
DTEND:20240912T233000Z
END:VEVENT
END:VCALENDAR
