BEGIN:VCALENDAR
VERSION:2.0
PRODID:SchoolNow
CALSCALE:GREGORIAN
BEGIN:VEVENT
UID:d680f8ec-34c0-11ef-8e67-0a58a9feac02
DTSTAMP:20241107T141618Z
SUMMARY:Public Board of Education meeting (11/7)
DESCRIPTION:Anticipated executive session at 5:30 p.m.
LOCATION:Harriet Gibbons Student Services Center\, 75 Watervliet Ave.
URL;VALUE=URI:https://www.albanyschools.org/calendar/6176189/public-board-o
 f-education-meeting-11-7
DTSTART:20241108T013000Z
DTEND:20241108T023000Z
END:VEVENT
END:VCALENDAR
