BEGIN:VCALENDAR
VERSION:2.0
PRODID:SchoolNow
CALSCALE:GREGORIAN
BEGIN:VEVENT
UID:b6297a1c-4e81-11ef-884f-0e48ada4ff3f
DTSTAMP:20240730T144048Z
SUMMARY:NO SCHOOL: Labor Day
URL;VALUE=URI:https://www.albanyschools.org/calendar/6329382/no-school-labo
 r-day
DTSTART;VALUE=DATE:20240902
DTEND;VALUE=DATE:20240903
END:VEVENT
END:VCALENDAR
