BEGIN:VCALENDAR
VERSION:2.0
PRODID:SchoolNow
CALSCALE:GREGORIAN
BEGIN:VEVENT
UID:d5d35158-4e81-11ef-87c6-024f8b7f5f43
DTSTAMP:20240730T144141Z
SUMMARY:NO SCHOOL: PD Day
URL;VALUE=URI:https://www.albanyschools.org/calendar/6329384/no-school-pd-d
 ay
DTSTART;VALUE=DATE:20240903
DTEND;VALUE=DATE:20240904
END:VEVENT
END:VCALENDAR
