BEGIN:VCALENDAR
VERSION:2.0
PRODID:SchoolNow
CALSCALE:GREGORIAN
BEGIN:VEVENT
UID:f22c9116-4e81-11ef-b7aa-0affd270cc7f
DTSTAMP:20240730T144229Z
SUMMARY:NO SCHOOL: PD Day
URL;VALUE=URI:https://www.albanyschools.org/calendar/6329387/no-school-pd-d
 ay
DTSTART;VALUE=DATE:20240905
DTEND;VALUE=DATE:20240906
END:VEVENT
END:VCALENDAR
