BEGIN:VCALENDAR
VERSION:2.0
PRODID:SchoolNow
CALSCALE:GREGORIAN
BEGIN:VEVENT
UID:68555486-4e82-11ef-ad55-0a58a9feac02
DTSTAMP:20240730T144547Z
SUMMARY:NO SCHOOL: Rosh Hashana
URL;VALUE=URI:https://www.albanyschools.org/calendar/6329391/no-school-rosh
 -hashana
DTSTART;VALUE=DATE:20241003
DTEND;VALUE=DATE:20241004
END:VEVENT
END:VCALENDAR
