BEGIN:VCALENDAR
VERSION:2.0
PRODID:SchoolNow
CALSCALE:GREGORIAN
BEGIN:VEVENT
UID:db3535a2-4e82-11ef-ab50-0efe57c74c83
DTSTAMP:20240730T144900Z
SUMMARY:NO SCHOOL: Columbus/Indigenous Peoples' Day
URL;VALUE=URI:https://www.albanyschools.org/calendar/6329400/no-school-colu
 mbus-indigenous-peoples-day
DTSTART;VALUE=DATE:20241014
DTEND;VALUE=DATE:20241015
END:VEVENT
END:VCALENDAR
