BEGIN:VCALENDAR
VERSION:2.0
PRODID:SchoolNow
CALSCALE:GREGORIAN
BEGIN:VEVENT
UID:fb66c656-4e82-11ef-80b4-0a58a9feac02
DTSTAMP:20241007T142135Z
SUMMARY:NO SCHOOL: Conference/PD Day
URL;VALUE=URI:https://www.albanyschools.org/calendar/6329402/no-school-conf
 erence-pd-day
DTSTART;VALUE=DATE:20241025
DTEND;VALUE=DATE:20241026
END:VEVENT
END:VCALENDAR
