BEGIN:VCALENDAR
VERSION:2.0
PRODID:SchoolNow
CALSCALE:GREGORIAN
BEGIN:VEVENT
UID:d4df2734-4e83-11ef-b671-0a58a9feac02
DTSTAMP:20240730T145559Z
SUMMARY:SECONDARY MARKING PERIOD (11/8)
URL;VALUE=URI:https://www.albanyschools.org/calendar/6329404/secondary-mark
 ing-period-11-8
DTSTART;VALUE=DATE:20241108
DTEND;VALUE=DATE:20241109
END:VEVENT
END:VCALENDAR
