BEGIN:VCALENDAR
VERSION:2.0
PRODID:SchoolNow
CALSCALE:GREGORIAN
BEGIN:VEVENT
UID:146253f4-4e84-11ef-b482-0afff90342e3
DTSTAMP:20240730T145745Z
SUMMARY:NO SCHOOL: Veterans Day
URL;VALUE=URI:https://www.albanyschools.org/calendar/6329411/no-school-vete
 rans-day
DTSTART;VALUE=DATE:20241111
DTEND;VALUE=DATE:20241112
END:VEVENT
END:VCALENDAR
