BEGIN:VCALENDAR
VERSION:2.0
PRODID:SchoolNow
CALSCALE:GREGORIAN
BEGIN:VEVENT
UID:5c07e7aa-4e84-11ef-a4e5-0afff40c6df3
DTSTAMP:20240730T145945Z
SUMMARY:NO SCHOOL: Thanksgiving Recess
URL;VALUE=URI:https://www.albanyschools.org/calendar/6329413/no-school-than
 ksgiving-recess
DTSTART;VALUE=DATE:20241127
DTEND;VALUE=DATE:20241130
END:VEVENT
END:VCALENDAR
