BEGIN:VCALENDAR
VERSION:2.0
PRODID:SchoolNow
CALSCALE:GREGORIAN
BEGIN:VEVENT
UID:141e3f02-502d-11ef-a0b4-0a58a9feac02
DTSTAMP:20240801T174001Z
SUMMARY:Homecoming football game vs. South Glens Falls
URL;VALUE=URI:https://www.albanyschools.org/calendar/6339937/homecoming-foo
 tball-game-vs-south-glens-falls
DTSTART:20240928T173000Z
DTEND:20240928T183000Z
END:VEVENT
END:VCALENDAR
