BEGIN:VCALENDAR
VERSION:2.0
PRODID:SchoolNow
CALSCALE:GREGORIAN
BEGIN:VEVENT
UID:97b3c44e-54ed-11ef-8504-0e72ab72bfb1
DTSTAMP:20240807T184810Z
SUMMARY:Contract for Excellence public hearing
LOCATION:Harriet Gibbons Student Services Center\, 75 Watervliet Ave.
URL;VALUE=URI:https://www.albanyschools.org/calendar/6367519/contract-for-e
 xcellence-public-hearing
DTSTART:20240808T213000Z
DTEND:20240808T223000Z
END:VEVENT
END:VCALENDAR
