BEGIN:VCALENDAR
VERSION:2.0
PRODID:SchoolNow
CALSCALE:GREGORIAN
BEGIN:VEVENT
UID:6521757e-5fe9-11ef-856b-0a58a9feac02
DTSTAMP:20240821T182233Z
SUMMARY:Pop-up job fair: hall monitors & TAs
URL;VALUE=URI:https://www.albanyschools.org/calendar/6438502/pop-up-job-fai
 r-hall-monitors-tas
DTSTART:20240822T130000Z
DTEND:20240822T190000Z
END:VEVENT
END:VCALENDAR
