BEGIN:VCALENDAR
VERSION:2.0
PRODID:SchoolNow
CALSCALE:GREGORIAN
BEGIN:VEVENT
UID:2e1b5904-6639-11ef-898c-0a58a9feac02
DTSTAMP:20240829T190204Z
SUMMARY:Hall of Fame Class of 2024 Induction Ceremony
LOCATION:Albany High School
URL;VALUE=URI:https://www.albanyschools.org/calendar/6484092/hall-of-fame-c
 lass-of-2024-induction-ceremony
DTSTART:20240928T130000Z
DTEND:20240928T150000Z
END:VEVENT
END:VCALENDAR
