BEGIN:VCALENDAR
VERSION:2.0
PRODID:SchoolNow
CALSCALE:GREGORIAN
BEGIN:VEVENT
UID:dc334d5c-75f3-11ef-991f-0affda381af1
DTSTAMP:20240926T152531Z
SUMMARY:The Greatest Showman Sing-A-Long
LOCATION:Albany High Auditorium
URL;VALUE=URI:https://www.albanyschools.org/calendar/6636768/the-greatest-s
 howman-sing-a-long
DTSTART:20241115T213000Z
DTEND:20241116T003000Z
END:VEVENT
END:VCALENDAR
