BEGIN:VCALENDAR
VERSION:2.0
PRODID:SchoolNow
CALSCALE:GREGORIAN
BEGIN:VEVENT
UID:fb24078e-7a7a-11ef-9fa2-0e68befffa43
DTSTAMP:20240925T161541Z
SUMMARY:Jazzmanian Devils kick off performance season
LOCATION:Wayward Lane Brewing\, 255 Ward Lane\, Schoharie\, 12157
URL;VALUE=URI:https://www.albanyschools.org/calendar/6678983/jazzmanian-dev
 ils-kick-off-performance-season
DTSTART:20241005T180000Z
DTEND:20241005T210000Z
END:VEVENT
END:VCALENDAR
