BEGIN:VCALENDAR
VERSION:2.0
PRODID:SchoolNow
CALSCALE:GREGORIAN
BEGIN:VEVENT
UID:c86e9164-8665-11ef-b1e6-0a58a9feac02
DTSTAMP:20241009T174242Z
SUMMARY:GO HOME EARLY EMERGENCY DRILL
URL;VALUE=URI:https://www.albanyschools.org/calendar/6790759/go-home-early-
 emergency-drill
DTSTART:20241011T040000Z
DTEND:20241012T035900Z
END:VEVENT
END:VCALENDAR
