BEGIN:VCALENDAR
VERSION:2.0
PRODID:SchoolNow
CALSCALE:GREGORIAN
BEGIN:VEVENT
UID:52c99e5c-8b0d-11ef-a6c0-0295db554fc7
DTSTAMP:20241015T155241Z
SUMMARY:Early dismissal for middle schools and Clement
URL;VALUE=URI:https://www.albanyschools.org/calendar/6829725/early-dismissa
 ls-for-middle-schools-and-clement-clone
DTSTART:20241120T173000Z
DTEND:20241120T183000Z
END:VEVENT
END:VCALENDAR
