BEGIN:VCALENDAR
VERSION:2.0
PRODID:SchoolNow
CALSCALE:GREGORIAN
BEGIN:VEVENT
UID:a9772652-8fdb-11ef-991b-0a58a9feac02
DTSTAMP:20241025T135520Z
SUMMARY:Parent University: Preventing Identity Theft
LOCATION:Hackett Middle School\, 45 Delaware Ave.
URL;VALUE=URI:https://www.albanyschools.org/calendar/6871257/parent-univers
 ity-preventing-identity-theft
DTSTART:20241029T230000Z
DTEND:20241030T000000Z
END:VEVENT
END:VCALENDAR
