BEGIN:VCALENDAR
VERSION:2.0
PRODID:SchoolNow
CALSCALE:GREGORIAN
BEGIN:VEVENT
UID:b80bfff0-960a-11ef-be69-027b9221a95b
DTSTAMP:20241029T153025Z
SUMMARY:'Villain Cabaret' and Prop Drive (11/1)
URL;VALUE=URI:https://www.albanyschools.org/calendar/6921018/villain-cabare
 t-and-prop-drive
DTSTART:20241101T223000Z
DTEND:20241101T233000Z
END:VEVENT
END:VCALENDAR
