BEGIN:VCALENDAR
VERSION:2.0
PRODID:SchoolNow
CALSCALE:GREGORIAN
BEGIN:VEVENT
UID:bcb17012-960a-11ef-b8e1-0a58a9feac02
DTSTAMP:20241029T153033Z
SUMMARY:'Villain Cabaret' and Prop Drive (11/2)
URL;VALUE=URI:https://www.albanyschools.org/calendar/6921019/villain-cabare
 t-and-prop-drive
DTSTART:20241102T223000Z
DTEND:20241102T233000Z
END:VEVENT
END:VCALENDAR
