BEGIN:VCALENDAR
VERSION:2.0
PRODID:SchoolNow
CALSCALE:GREGORIAN
BEGIN:VEVENT
UID:fa1d4ba0-96d3-11ef-95d1-0a58a9feac02
DTSTAMP:20241105T185018Z
SUMMARY:Special Education Session: Visual Supports in Practice
URL;VALUE=URI:https://www.albanyschools.org/calendar/6928526/special-educat
 ion-session-visual-supports-in-practice
DTSTART:20241105T230000Z
DTEND:20241106T003000Z
END:VEVENT
END:VCALENDAR
