BEGIN:VCALENDAR
VERSION:2.0
PRODID:SchoolNow
CALSCALE:GREGORIAN
BEGIN:VEVENT
UID:7c484d50-96d4-11ef-a6b7-0212872c6f5d
DTSTAMP:20250114T205849Z
SUMMARY:Special Education Session: Communication
URL;VALUE=URI:https://www.albanyschools.org/calendar/6928527/special-educat
 ion-session-communication
DTSTART:20250114T230000Z
DTEND:20250115T003000Z
END:VEVENT
END:VCALENDAR
