BEGIN:VCALENDAR
VERSION:2.0
PRODID:SchoolNow
CALSCALE:GREGORIAN
BEGIN:VEVENT
UID:0ff4fc80-96e2-11ef-a8bb-022f88bb9c67
DTSTAMP:20241030T171154Z
SUMMARY:Marching Falcons & JROTC in Veterans Day parade
URL;VALUE=URI:https://www.albanyschools.org/calendar/6928530/jrotc-marching
 -in-city-of-albany-veterans-day-parade
DTSTART:20241111T160000Z
DTEND:20241111T170000Z
END:VEVENT
END:VCALENDAR
